BEGIN:VCALENDAR
VERSION:2.0
PRODID:-//Ronchamp Atelier Photo - ECPv6.5.0//NONSGML v1.0//EN
CALSCALE:GREGORIAN
METHOD:PUBLISH
X-WR-CALNAME:Ronchamp Atelier Photo
X-ORIGINAL-URL:https://atelierphotoronchamp.fr
X-WR-CALDESC:évènements pour Ronchamp Atelier Photo
REFRESH-INTERVAL;VALUE=DURATION:PT1H
X-Robots-Tag:noindex
X-PUBLISHED-TTL:PT1H
BEGIN:VTIMEZONE
TZID:Europe/Paris
BEGIN:DAYLIGHT
TZOFFSETFROM:+0100
TZOFFSETTO:+0200
TZNAME:CEST
DTSTART:20200329T010000
END:DAYLIGHT
BEGIN:STANDARD
TZOFFSETFROM:+0200
TZOFFSETTO:+0100
TZNAME:CET
DTSTART:20201025T010000
END:STANDARD
END:VTIMEZONE
BEGIN:VEVENT
DTSTART;TZID=Europe/Paris:20201026T080000
DTEND;TZID=Europe/Paris:20201026T170000
DTSTAMP:20260420T210552
CREATED:20201026T103629Z
LAST-MODIFIED:20201026T103629Z
UID:493-1603699200-1603731600@atelierphotoronchamp.fr
SUMMARY:pas de réunion de ce samedi  31 octobre 2020
DESCRIPTION:pas de réunion ce samedi 30 octobre
URL:https://atelierphotoronchamp.fr/event/pas-de-reunion-de-ce-samedi-31-octobre-2020/
END:VEVENT
END:VCALENDAR