BEGIN:VCALENDAR
VERSION:2.0
PRODID:-//Ronchamp Atelier Photo - ECPv6.5.0//NONSGML v1.0//EN
CALSCALE:GREGORIAN
METHOD:PUBLISH
X-ORIGINAL-URL:https://atelierphotoronchamp.fr
X-WR-CALDESC:évènements pour Ronchamp Atelier Photo
REFRESH-INTERVAL;VALUE=DURATION:PT1H
X-Robots-Tag:noindex
X-PUBLISHED-TTL:PT1H
BEGIN:VTIMEZONE
TZID:Europe/Paris
BEGIN:DAYLIGHT
TZOFFSETFROM:+0100
TZOFFSETTO:+0200
TZNAME:CEST
DTSTART:20200329T010000
END:DAYLIGHT
BEGIN:STANDARD
TZOFFSETFROM:+0200
TZOFFSETTO:+0100
TZNAME:CET
DTSTART:20201025T010000
END:STANDARD
END:VTIMEZONE
BEGIN:VEVENT
DTSTART;TZID=Europe/Paris:20201031T090000
DTEND;TZID=Europe/Paris:20201031T110000
DTSTAMP:20260420T210750
CREATED:20201027T061655Z
LAST-MODIFIED:20201027T061655Z
UID:495-1604134800-1604142000@atelierphotoronchamp.fr
SUMMARY:réunion de samedi 31 octobre annulée
DESCRIPTION:Pas de réunion ce samedi 31 octobre
URL:https://atelierphotoronchamp.fr/event/reunion-de-samedi-31-octobre-annulee/
END:VEVENT
END:VCALENDAR