BEGIN:VCALENDAR
VERSION:2.0
PRODID:-//Ronchamp Atelier Photo - ECPv6.5.0//NONSGML v1.0//EN
CALSCALE:GREGORIAN
METHOD:PUBLISH
X-ORIGINAL-URL:https://atelierphotoronchamp.fr
X-WR-CALDESC:évènements pour Ronchamp Atelier Photo
REFRESH-INTERVAL;VALUE=DURATION:PT1H
X-Robots-Tag:noindex
X-PUBLISHED-TTL:PT1H
BEGIN:VTIMEZONE
TZID:Europe/Paris
BEGIN:DAYLIGHT
TZOFFSETFROM:+0100
TZOFFSETTO:+0200
TZNAME:CEST
DTSTART:20200329T010000
END:DAYLIGHT
BEGIN:STANDARD
TZOFFSETFROM:+0200
TZOFFSETTO:+0100
TZNAME:CET
DTSTART:20201025T010000
END:STANDARD
END:VTIMEZONE
BEGIN:VEVENT
DTSTART;TZID=Europe/Paris:20200911T173000
DTEND;TZID=Europe/Paris:20200911T190000
DTSTAMP:20260420T224823
CREATED:20200907T131032Z
LAST-MODIFIED:20200907T131322Z
UID:472-1599845400-1599850800@atelierphotoronchamp.fr
SUMMARY:réunion du 11 septembre
DESCRIPTION:cours le 11 septembre\n: suite organisation\n:connaitre son ap photo !\n:sortie aéromodélisme pour les intéressés après le cours
URL:https://atelierphotoronchamp.fr/event/reunion-du-11-septembre/
END:VEVENT
BEGIN:VEVENT
DTSTART;TZID=Europe/Paris:20200919T090000
DTEND;TZID=Europe/Paris:20200919T110000
DTSTAMP:20260420T224823
CREATED:20200907T131150Z
LAST-MODIFIED:20200916T043929Z
UID:474-1600506000-1600513200@atelierphotoronchamp.fr
SUMMARY:19/09  cours sur la profondeur de champ avec Jacques
DESCRIPTION:cours sur la profondeur de champ avec Jacques ! exercice à faire a la maison ! et visionnage des clichés dans 4 semaines en aveugle !
URL:https://atelierphotoronchamp.fr/event/19-09-relache/
END:VEVENT
END:VCALENDAR